BEGIN:VCALENDAR
VERSION:2.0
PRODID:-//WSU Extension Master Gardener Advanced Education Conference - ECPv6.15.20//NONSGML v1.0//EN
CALSCALE:GREGORIAN
METHOD:PUBLISH
X-WR-CALNAME:WSU Extension Master Gardener Advanced Education Conference
X-ORIGINAL-URL:https://mglearns.mastergardenerfoundation.org
X-WR-CALDESC:Events for WSU Extension Master Gardener Advanced Education Conference
REFRESH-INTERVAL;VALUE=DURATION:PT1H
X-Robots-Tag:noindex
X-PUBLISHED-TTL:PT1H
BEGIN:VTIMEZONE
TZID:America/Los_Angeles
BEGIN:DAYLIGHT
TZOFFSETFROM:-0800
TZOFFSETTO:-0700
TZNAME:PDT
DTSTART:20220313T100000
END:DAYLIGHT
BEGIN:STANDARD
TZOFFSETFROM:-0700
TZOFFSETTO:-0800
TZNAME:PST
DTSTART:20221106T090000
END:STANDARD
BEGIN:DAYLIGHT
TZOFFSETFROM:-0800
TZOFFSETTO:-0700
TZNAME:PDT
DTSTART:20230312T100000
END:DAYLIGHT
BEGIN:STANDARD
TZOFFSETFROM:-0700
TZOFFSETTO:-0800
TZNAME:PST
DTSTART:20231105T090000
END:STANDARD
BEGIN:DAYLIGHT
TZOFFSETFROM:-0800
TZOFFSETTO:-0700
TZNAME:PDT
DTSTART:20240310T100000
END:DAYLIGHT
BEGIN:STANDARD
TZOFFSETFROM:-0700
TZOFFSETTO:-0800
TZNAME:PST
DTSTART:20241103T090000
END:STANDARD
END:VTIMEZONE
BEGIN:VEVENT
DTSTART;TZID=America/Los_Angeles:20230929T144500
DTEND;TZID=America/Los_Angeles:20230929T160000
DTSTAMP:20260421T042341
CREATED:20230325T221533Z
LAST-MODIFIED:20230626T172453Z
UID:10000030-1695998700-1696003200@mglearns.mastergardenerfoundation.org
SUMMARY:Feeding the Soil: Nature’s Health Plan for Your Garden (and You) 
DESCRIPTION:David Montgomery and Anne Biklé will draw from their latest book What Your Food Ate as well as their Dirt Trilogy (Dirt\, The Hidden Half of Nature\, Growing a Revolution) to present the connections between soil health and human health. They’ll share the history and science underpinning the new awareness of soil health in gardening and farming. The practices that best nourish and safeguard a plant’s root microbiome ripple through to the health and beauty of plants in gardens as well as the nutritional qualities and flavor of crops and animals in the human diet. It turns out that what’s good for the land is good for us too.1.25 CE credits
URL:https://mglearns.mastergardenerfoundation.org/event/6c-feeding-the-soil-natures-health-plan-for-your-garden-and-you/
CATEGORIES:Classes,Friday,Session 6
ATTACH;FMTTYPE=image/png:https://mglearns.mastergardenerfoundation.org/wp-content/uploads/sites/31/2023/03/Cougs-Give-posts-5.png
ORGANIZER;CN="David Montgomery%2C Anne Bikle":MAILTO:Dig2Grow@gmail.com
END:VEVENT
END:VCALENDAR