BEGIN:VCALENDAR
VERSION:2.0
PRODID:-//WSU Extension Master Gardener Advanced Education Conference - ECPv6.15.20//NONSGML v1.0//EN
CALSCALE:GREGORIAN
METHOD:PUBLISH
X-WR-CALNAME:WSU Extension Master Gardener Advanced Education Conference
X-ORIGINAL-URL:https://mglearns.mastergardenerfoundation.org
X-WR-CALDESC:Events for WSU Extension Master Gardener Advanced Education Conference
REFRESH-INTERVAL;VALUE=DURATION:PT1H
X-Robots-Tag:noindex
X-PUBLISHED-TTL:PT1H
BEGIN:VTIMEZONE
TZID:America/Los_Angeles
BEGIN:DAYLIGHT
TZOFFSETFROM:-0800
TZOFFSETTO:-0700
TZNAME:PDT
DTSTART:20220313T100000
END:DAYLIGHT
BEGIN:STANDARD
TZOFFSETFROM:-0700
TZOFFSETTO:-0800
TZNAME:PST
DTSTART:20221106T090000
END:STANDARD
BEGIN:DAYLIGHT
TZOFFSETFROM:-0800
TZOFFSETTO:-0700
TZNAME:PDT
DTSTART:20230312T100000
END:DAYLIGHT
BEGIN:STANDARD
TZOFFSETFROM:-0700
TZOFFSETTO:-0800
TZNAME:PST
DTSTART:20231105T090000
END:STANDARD
BEGIN:DAYLIGHT
TZOFFSETFROM:-0800
TZOFFSETTO:-0700
TZNAME:PDT
DTSTART:20240310T100000
END:DAYLIGHT
BEGIN:STANDARD
TZOFFSETFROM:-0700
TZOFFSETTO:-0800
TZNAME:PST
DTSTART:20241103T090000
END:STANDARD
END:VTIMEZONE
BEGIN:VEVENT
DTSTART;TZID=America/Los_Angeles:20230928T141500
DTEND;TZID=America/Los_Angeles:20230928T153000
DTSTAMP:20260421T055341
CREATED:20230320T200001Z
LAST-MODIFIED:20230626T172640Z
UID:10000001-1695910500-1695915000@mglearns.mastergardenerfoundation.org
SUMMARY:Garden Allies: An Introduction to Life in the Landscape
DESCRIPTION:A frequent topic of gardening questions is about the insects and other life found there – and how to maintain an ecological balance while creating beautiful landscapes. This presentation takes a food web approach\, emphasizing the interdependence of all life in the garden. We will explore how the lives of insects\, birds\, other animals\, and soil organisms are inextricably interwoven with plants.   \n\n\n\nFollowing a brief overview of conservation biological control\, we explore why this approach is ideally suited to home landscapes. The presentation includes effective approaches to helping gardeners reduce their reliance on pesticides\, and to help them develop new perspectives on life in the garden. Master Gardeners will be provided with resources to supplement the presentation. 1.25 CE credits
URL:https://mglearns.mastergardenerfoundation.org/event/class-template/
CATEGORIES:Classes,Session 1,Thursday
ATTACH;FMTTYPE=image/jpeg:https://mglearns.mastergardenerfoundation.org/wp-content/uploads/sites/31/2022/12/20190802_083032-e1672361610336.jpg
END:VEVENT
END:VCALENDAR