BEGIN:VCALENDAR
VERSION:2.0
PRODID:-//WSU Extension Master Gardener Advanced Education Conference - ECPv6.15.20//NONSGML v1.0//EN
CALSCALE:GREGORIAN
METHOD:PUBLISH
X-ORIGINAL-URL:https://mglearns.mastergardenerfoundation.org
X-WR-CALDESC:Events for WSU Extension Master Gardener Advanced Education Conference
REFRESH-INTERVAL;VALUE=DURATION:PT1H
X-Robots-Tag:noindex
X-PUBLISHED-TTL:PT1H
BEGIN:VTIMEZONE
TZID:America/Los_Angeles
BEGIN:DAYLIGHT
TZOFFSETFROM:-0800
TZOFFSETTO:-0700
TZNAME:PDT
DTSTART:20220313T100000
END:DAYLIGHT
BEGIN:STANDARD
TZOFFSETFROM:-0700
TZOFFSETTO:-0800
TZNAME:PST
DTSTART:20221106T090000
END:STANDARD
BEGIN:DAYLIGHT
TZOFFSETFROM:-0800
TZOFFSETTO:-0700
TZNAME:PDT
DTSTART:20230312T100000
END:DAYLIGHT
BEGIN:STANDARD
TZOFFSETFROM:-0700
TZOFFSETTO:-0800
TZNAME:PST
DTSTART:20231105T090000
END:STANDARD
BEGIN:DAYLIGHT
TZOFFSETFROM:-0800
TZOFFSETTO:-0700
TZNAME:PDT
DTSTART:20240310T100000
END:DAYLIGHT
BEGIN:STANDARD
TZOFFSETFROM:-0700
TZOFFSETTO:-0800
TZNAME:PST
DTSTART:20241103T090000
END:STANDARD
END:VTIMEZONE
BEGIN:VEVENT
DTSTART;TZID=America/Los_Angeles:20230929T133000
DTEND;TZID=America/Los_Angeles:20230929T143000
DTSTAMP:20260421T012847
CREATED:20230325T194600Z
LAST-MODIFIED:20230626T165620Z
UID:10000024-1695994200-1695997800@mglearns.mastergardenerfoundation.org
SUMMARY:Facilitated Networking: Fundamentals of a Non-profit Board
DESCRIPTION:This session is designed for those who want to understand the fundamentals of an effective nonprofit board. Throughout this interactive workshop\, we’ll cover the basic nonprofit governance concepts every nonprofit board member should comprehend\, including board structure and practices\, the roles and responsibilities of board members\, group dynamics\, and financial and legal oversight.1 CE credit
URL:https://mglearns.mastergardenerfoundation.org/event/5b-facilitated-networking-im-new-to-the-board/
CATEGORIES:Classes,Friday,Session 5
ATTACH;FMTTYPE=image/png:https://mglearns.mastergardenerfoundation.org/wp-content/uploads/sites/31/2023/03/Cougs-Give-posts-2.png
END:VEVENT
END:VCALENDAR