BEGIN:VCALENDAR
VERSION:2.0
PRODID:-//WSU Extension Master Gardener Advanced Education Conference - ECPv6.15.20//NONSGML v1.0//EN
CALSCALE:GREGORIAN
METHOD:PUBLISH
X-ORIGINAL-URL:https://mglearns.mastergardenerfoundation.org
X-WR-CALDESC:Events for WSU Extension Master Gardener Advanced Education Conference
REFRESH-INTERVAL;VALUE=DURATION:PT1H
X-Robots-Tag:noindex
X-PUBLISHED-TTL:PT1H
BEGIN:VTIMEZONE
TZID:America/Los_Angeles
BEGIN:DAYLIGHT
TZOFFSETFROM:-0800
TZOFFSETTO:-0700
TZNAME:PDT
DTSTART:20220313T100000
END:DAYLIGHT
BEGIN:STANDARD
TZOFFSETFROM:-0700
TZOFFSETTO:-0800
TZNAME:PST
DTSTART:20221106T090000
END:STANDARD
BEGIN:DAYLIGHT
TZOFFSETFROM:-0800
TZOFFSETTO:-0700
TZNAME:PDT
DTSTART:20230312T100000
END:DAYLIGHT
BEGIN:STANDARD
TZOFFSETFROM:-0700
TZOFFSETTO:-0800
TZNAME:PST
DTSTART:20231105T090000
END:STANDARD
BEGIN:DAYLIGHT
TZOFFSETFROM:-0800
TZOFFSETTO:-0700
TZNAME:PDT
DTSTART:20240310T100000
END:DAYLIGHT
BEGIN:STANDARD
TZOFFSETFROM:-0700
TZOFFSETTO:-0800
TZNAME:PST
DTSTART:20241103T090000
END:STANDARD
END:VTIMEZONE
BEGIN:VEVENT
DTSTART;TZID=America/Los_Angeles:20230928T141500
DTEND;TZID=America/Los_Angeles:20230928T153000
DTSTAMP:20260419T105446
CREATED:20230323T003508Z
LAST-MODIFIED:20230626T172847Z
UID:10000005-1695910500-1695915000@mglearns.mastergardenerfoundation.org
SUMMARY:Native Plants for Biodiversity
DESCRIPTION:Washington has over 5\,000 taxa of native plants\, ranging from very common and widespread species to rare plants and narrow endemics. This plant diversity supports most of our wildlife\, beginning with the insects that feed on them\, and makes our state the beautiful and interesting place where we’ve chosen to live. While most of the rare and sensitive species aren’t appropriate for the home garden\, a great number of natives are good choices for the garden\, but some may be hard to get. In this program you’ll be introduced to (or reacquainted with) a selection of garden-worthy natives for both sides of the Cascades that are available from specialty nurseries and other sources. The plants will include trees\, shrubs\, perennials\, and groundcovers.1.25 CE credits 
URL:https://mglearns.mastergardenerfoundation.org/event/1d-native-plants-for-biodiversity/
CATEGORIES:Classes,Session 1,Thursday
ATTACH;FMTTYPE=image/jpeg:https://mglearns.mastergardenerfoundation.org/wp-content/uploads/sites/31/2023/03/20221028_095717-scaled-e1679419747643.jpg
END:VEVENT
END:VCALENDAR