BEGIN:VCALENDAR
VERSION:2.0
PRODID:-//WSU Extension Master Gardener Advanced Education Conference - ECPv6.15.20//NONSGML v1.0//EN
CALSCALE:GREGORIAN
METHOD:PUBLISH
X-WR-CALNAME:WSU Extension Master Gardener Advanced Education Conference
X-ORIGINAL-URL:https://mglearns.mastergardenerfoundation.org
X-WR-CALDESC:Events for WSU Extension Master Gardener Advanced Education Conference
REFRESH-INTERVAL;VALUE=DURATION:PT1H
X-Robots-Tag:noindex
X-PUBLISHED-TTL:PT1H
BEGIN:VTIMEZONE
TZID:America/Los_Angeles
BEGIN:DAYLIGHT
TZOFFSETFROM:-0800
TZOFFSETTO:-0700
TZNAME:PDT
DTSTART:20220313T100000
END:DAYLIGHT
BEGIN:STANDARD
TZOFFSETFROM:-0700
TZOFFSETTO:-0800
TZNAME:PST
DTSTART:20221106T090000
END:STANDARD
BEGIN:DAYLIGHT
TZOFFSETFROM:-0800
TZOFFSETTO:-0700
TZNAME:PDT
DTSTART:20230312T100000
END:DAYLIGHT
BEGIN:STANDARD
TZOFFSETFROM:-0700
TZOFFSETTO:-0800
TZNAME:PST
DTSTART:20231105T090000
END:STANDARD
BEGIN:DAYLIGHT
TZOFFSETFROM:-0800
TZOFFSETTO:-0700
TZNAME:PDT
DTSTART:20240310T100000
END:DAYLIGHT
BEGIN:STANDARD
TZOFFSETFROM:-0700
TZOFFSETTO:-0800
TZNAME:PST
DTSTART:20241103T090000
END:STANDARD
END:VTIMEZONE
BEGIN:VEVENT
DTSTART;TZID=America/Los_Angeles:20230929T090000
DTEND;TZID=America/Los_Angeles:20230929T101500
DTSTAMP:20260421T033708
CREATED:20230323T182617Z
LAST-MODIFIED:20230626T164646Z
UID:10000016-1695978000-1695982500@mglearns.mastergardenerfoundation.org
SUMMARY:The Resilient Yard: Design and Maintenance in a Changing Climate
DESCRIPTION:The Resilient Yard is for homeowners and Master Gardeners who want to know what actions they can take to combat climate change in their yard. Presentation breaks the yard down into the lawn\, the beds\, and the vegetable garden. For each section you are taken through actions you can take to either reduce your CO2 generation in maintaining your yard; or how you can design your yard to better capture CO2 and store it in your plants and soil. 1.25 CE credits
URL:https://mglearns.mastergardenerfoundation.org/event/3d-the-resilient-yard-design-and-maintenance-in-a-changing-climate/
CATEGORIES:Classes,Friday,Session 3
ATTACH;FMTTYPE=image/jpeg:https://mglearns.mastergardenerfoundation.org/wp-content/uploads/sites/31/2023/03/20180701_114334-scaled-e1679595717459.jpg
END:VEVENT
END:VCALENDAR