BEGIN:VCALENDAR
VERSION:2.0
PRODID:-//WSU Extension Master Gardener Advanced Education Conference - ECPv6.15.20//NONSGML v1.0//EN
CALSCALE:GREGORIAN
METHOD:PUBLISH
X-ORIGINAL-URL:https://mglearns.mastergardenerfoundation.org
X-WR-CALDESC:Events for WSU Extension Master Gardener Advanced Education Conference
REFRESH-INTERVAL;VALUE=DURATION:PT1H
X-Robots-Tag:noindex
X-PUBLISHED-TTL:PT1H
BEGIN:VTIMEZONE
TZID:America/Los_Angeles
BEGIN:DAYLIGHT
TZOFFSETFROM:-0800
TZOFFSETTO:-0700
TZNAME:PDT
DTSTART:20220313T100000
END:DAYLIGHT
BEGIN:STANDARD
TZOFFSETFROM:-0700
TZOFFSETTO:-0800
TZNAME:PST
DTSTART:20221106T090000
END:STANDARD
BEGIN:DAYLIGHT
TZOFFSETFROM:-0800
TZOFFSETTO:-0700
TZNAME:PDT
DTSTART:20230312T100000
END:DAYLIGHT
BEGIN:STANDARD
TZOFFSETFROM:-0700
TZOFFSETTO:-0800
TZNAME:PST
DTSTART:20231105T090000
END:STANDARD
BEGIN:DAYLIGHT
TZOFFSETFROM:-0800
TZOFFSETTO:-0700
TZNAME:PDT
DTSTART:20240310T100000
END:DAYLIGHT
BEGIN:STANDARD
TZOFFSETFROM:-0700
TZOFFSETTO:-0800
TZNAME:PST
DTSTART:20241103T090000
END:STANDARD
END:VTIMEZONE
BEGIN:VEVENT
DTSTART;TZID=America/Los_Angeles:20230929T103000
DTEND;TZID=America/Los_Angeles:20230929T114500
DTSTAMP:20260423T012911
CREATED:20230325T185557Z
LAST-MODIFIED:20230626T165403Z
UID:10000021-1695983400-1695987900@mglearns.mastergardenerfoundation.org
SUMMARY:Finding Our Way Home: Native Plants in the Garden 
DESCRIPTION:This presentation explores how our goals and expectations as gardeners may be at odds with the biological truths of natural systems\, and how these differences can be recognized and addressed through the use of native plants to build resilient and sustainable gardens that appease our need to support natural ecosystems and also satisfy our souls.1.25 CE credits
URL:https://mglearns.mastergardenerfoundation.org/event/4d-finding-our-way-home-native-plants-in-the-garden/
CATEGORIES:Classes,Friday,Session 4
ATTACH;FMTTYPE=image/jpeg:https://mglearns.mastergardenerfoundation.org/wp-content/uploads/sites/31/2023/03/wild-flowers-at-mt-Rainier-scaled-e1679770254254.jpg
END:VEVENT
END:VCALENDAR