BEGIN:VCALENDAR
VERSION:2.0
PRODID:-//WSU Extension Master Gardener Advanced Education Conference - ECPv6.15.20//NONSGML v1.0//EN
CALSCALE:GREGORIAN
METHOD:PUBLISH
X-ORIGINAL-URL:https://mglearns.mastergardenerfoundation.org
X-WR-CALDESC:Events for WSU Extension Master Gardener Advanced Education Conference
REFRESH-INTERVAL;VALUE=DURATION:PT1H
X-Robots-Tag:noindex
X-PUBLISHED-TTL:PT1H
BEGIN:VTIMEZONE
TZID:America/Los_Angeles
BEGIN:DAYLIGHT
TZOFFSETFROM:-0800
TZOFFSETTO:-0700
TZNAME:PDT
DTSTART:20220313T100000
END:DAYLIGHT
BEGIN:STANDARD
TZOFFSETFROM:-0700
TZOFFSETTO:-0800
TZNAME:PST
DTSTART:20221106T090000
END:STANDARD
BEGIN:DAYLIGHT
TZOFFSETFROM:-0800
TZOFFSETTO:-0700
TZNAME:PDT
DTSTART:20230312T100000
END:DAYLIGHT
BEGIN:STANDARD
TZOFFSETFROM:-0700
TZOFFSETTO:-0800
TZNAME:PST
DTSTART:20231105T090000
END:STANDARD
BEGIN:DAYLIGHT
TZOFFSETFROM:-0800
TZOFFSETTO:-0700
TZNAME:PDT
DTSTART:20240310T100000
END:DAYLIGHT
BEGIN:STANDARD
TZOFFSETFROM:-0700
TZOFFSETTO:-0800
TZNAME:PST
DTSTART:20241103T090000
END:STANDARD
END:VTIMEZONE
BEGIN:VEVENT
DTSTART;TZID=America/Los_Angeles:20230928T154500
DTEND;TZID=America/Los_Angeles:20230928T170000
DTSTAMP:20260423T030442
CREATED:20230326T000224Z
LAST-MODIFIED:20230626T173328Z
UID:10000008-1695915900-1695920400@mglearns.mastergardenerfoundation.org
SUMMARY:Learning How to Care for Solitary Mason and Leafcutter Bees
DESCRIPTION:Bees are becoming an increasingly popular addition to gardens – but not just honeybees. If you’re thinking of hosting bees in your yard\, releasing solitary MASON bees should be top on your list. Solitary bees make up 90% of all bees on the planet and are one of mother nature’s bet pollinators! On average\, each mason bee can visit over 2\,000 blooms daily and pollinate 95% of the flowers they land on in comparison to the meticulous pollen gathering of honeybees who only have a 5% pollination rate.This makes them the unsung heroes of the pollinating world! Not only can they help us grow more food\, but their belly flopping pollen collecting methods make surrounding habitat healthier. Solitary bee activity helps filter out pollutants from air and water streams – increasing overall ecosystem health everywhere these little bees buzz around.1.25 CE credits
URL:https://mglearns.mastergardenerfoundation.org/event/2b-learning-how-to-care-for-solitary-mason-and-leafcutter-bees/
CATEGORIES:Classes,Session 2,Thursday
ATTACH;FMTTYPE=image/jpeg:https://mglearns.mastergardenerfoundation.org/wp-content/uploads/sites/31/2023/03/Depositphotos_361392496_XL-scaled-e1679423301982.jpg
END:VEVENT
END:VCALENDAR